BEGIN:VCALENDAR
VERSION:2.0
PRODID:-//Eventin//Event Calendar//EN
CALSCALE:GREGORIAN
METHOD:PUBLISH
BEGIN:VEVENT
UID:4c1aec6eab32ee87279ab47bad1e8a74@kcdentertainment.co.uk
SUMMARY:Comedy Night - 30th May
DESCRIPTION:Get ready for a night of non-stop laughter at Comedy Night at T
 he Garrison Church. Join us for an unforgettable evening packed with top-ti
 er stand-up\, big laughs\, and feel-good vibes in a vibrant atmosphere.\nDo
 ors and bar open at 6:00 PM\, giving you plenty of time to settle in before
  the show kicks off at 7:00 PM. From the very first act\, you’ll be treat
 ed to a lineup of talented comedians ready to keep you entertained all nigh
 t long.\nExpect sharp wit\, hilarious stories\, and plenty of moments that 
 will have you laughing out loud. Whether you’re planning a fun night out 
 with friends\, a unique date night\, or just looking to unwind\, this is on
 e event you won’t want to miss.Note: Entrance minimum age for admission i
 s 18 years and above.
LOCATION:London SE18 6BW
DTSTAMP:20260420T143833Z
DTSTART:20260530T180000Z
DTEND:20260530T190000Z
END:VEVENT
END:VCALENDAR
