BEGIN:VCALENDAR
VERSION:2.0
PRODID:-//Eventin//Event Calendar//EN
CALSCALE:GREGORIAN
METHOD:PUBLISH
BEGIN:VEVENT
UID:b618cc3b2ad77e362131f0e33b7ab5bd@kcdentertainment.co.uk
SUMMARY:Comedy Night - 2nd May
DESCRIPTION:Get ready for a night of non-stop laughter at Comedy Night at T
 he Garrison Church. Join us for an unforgettable evening packed with top-ti
 er stand-up\, big laughs\, and feel-good vibes in a vibrant atmosphere.\nDo
 ors and bar open at 6:00 PM\, giving you plenty of time to settle in before
  the show kicks off at 7:00 PM. From the very first act\, you’ll be treat
 ed to a lineup of talented comedians ready to keep you entertained all nigh
 t long.\nExpect sharp wit\, hilarious stories\, and plenty of moments that 
 will have you laughing out loud. Whether you’re planning a fun night out 
 with friends\, a unique date night\, or just looking to unwind\, this is on
 e event you won’t want to miss.Note: Entrance minimum age for admission i
 s 18 years and above.SANG DON PARK: Sang is an award winning\, South Korean
  comedian\, who has performed in various cities around the world\, such as 
 Melbourne\, Sydney\, Seoul\, as well as including London. Though he is a hi
 gh-energy comedian\, he also makes an effort to thoroughly heed and adjust 
 to his audience as well to carry out the best performance for the crowd. Hi
 s comedy styles include observational\, cultural\, and some improvisational
  riffs as well. Also\, as an experienced Beatboxer\, he incorporates some o
 riginal music and unique sound effects into his set as well.With his unique
  multi-cultural background and his extensive music knowledge\, he provides 
 an original experience for the crowd.
LOCATION:London SE18 6BW
DTSTAMP:20260420T143747Z
DTSTART:20260502T180000Z
DTEND:20260502T190000Z
END:VEVENT
END:VCALENDAR
